Workbook
Name _Hlk219970689: 実績報告書!$A$25
Name _Hlk61941681: 実績報告書!$A$8

Sheet 実績報告書
A4: 第6号様式(第11条関係)
H5: 年 | J5: 月 | L5: 日
A6: (あて先) 日野市長
B8: 団体名
B10: 代表者住所 | C10: 〒
B13: 代表者役職名
B15: 代表者氏名
L16: ご署名をお願いします（署名ができない場合、または法人の場合は押印ください）
A18: 令和８年度市民活動支援補助金実績報告書
A20: 事業の名称
A21: 実施時期 | C21: 年 | E21: 月 | F21: ～ | H21: 年 | J21: 月
A22: 事業実施場所
A23: 事業実施内容
A25: 添付書類
A27: （１）事業評価シート
A29: (2)事業収支決算書
A31: (3)領収書等の写し
A33: (4)事業の実施状況が分かるチラシ・パンフレット等
A35: (５)事業の実施状況が分かる写真（2～3枚程度）
A37: 連絡責任者 | B37: 氏名
B38: (〒 ― )
B39: TEL
B40: E-mail

Sheet 事業評価シート
L1: 令和８年度市民活動支援補助金
A2: 〈雛形3〉
A4: 事業評価シート | J4: FALSE
A6: 事業の名称 | C6: =実績報告書!B20 -> 0
A7: 団体名 | C7: =実績報告書!C8 -> 0
A8: 事業実施時期 | C8: =実績報告書!B21 -> 0 | E8: 年 | F8: =実績報告書!D21 -> 0 | G8: 月 | H8: ～ | I8: =実績報告書!G21 -> 0 | J8: 年 | K8: =実績報告書!I21 -> 0 | L8: 月
A9: 事業の目的
A10: 事業の実施内容 | C10: ※「実施日時」「実施場所」「参加人数」「実施内容」の詳細を具体的に記入してください。交付決定にあたり、条件や要望が付されていた場合は、それを受けて行ったことも記載してください。
A12: 事業の効果 | C12: ※参加者の声、参加人数やアンケート結果等、可能な限り数値を用いて効果をお示しください。
A14: 事業の目的は達成できたか | D14: 達成できた | I14: おおむね達成できた | N14: （いずれかに☑）
D15: あまり達成できなかった | I15: ほとんど達成できなかった
C16: ※理由を簡単にご記入ください。
A18: 事業を計画（提案）どおりに実施できたか | D18: 事業計画のとおりに遂行できた | N18: （いずれかに☑）
D19: 計画どおりに実施できない部分があった
C20: ※実施できない部分があった場合、その内容と理由をご記入ください。 （事業計画の変更、支出項目の変更等）
A22: 次年度以降の事業展開について | C22: ※自立した活動に向けての資金確保の計画や、今年度の事業内容を踏まえた来年度以降の活動、連携の取り組みなどを具体的にご記入ください。

Sheet 事業収支決算書
A1: 〈雛形4〉 | G1: 令和８年度市民活動支援補助金
A2: 事業収支決算書
A5: 【収入】
A6: 収入の区分 | C6: 内 容 ・ 内 訳 | E6: 金額（円）
A7: 自己資金 | B7: 事業収入（参加費・入場料等）
B8: 寄附受入れ金
B9: 団体運営費からの繰入金
B10: その他自己資金 | F10: 自己資金比率
B11: 自己資金の合計額（A） | E11: =IF(SUM(E7:E10)=0,"0",SUM(E7:E10)) -> 0 | F11: =E11/E13 -> #DIV/0!
A12: 市民活動支援補助金（B）
A13: 収入合計額（C)＝（A+B) | E13: =IF(AND(E11="0",E12="0"),"0",E11+E12) -> 0 | I13: =IF($E$13=$E$35,"","収入と支出の合計額が一致しません") -> 収入と支出の合計額が一致しません
A15: 【支出】
A16: 項 目 | C16: 内容 | D16: 単価・数量など | E16: 金額（円） | F16: 対象経費合計に対する割合
A17: 交付対象経費 | B17: 謝礼金等 | F17: =E17/$E$29 -> #DIV/0! | G17: 謝礼金と委託費の割合（合計）
B18: 委託費 | F18: =E18/$E$29 -> #DIV/0! | G18: =F17+F18 -> #DIV/0!
B19: 会場等使用料
B20: 賃借料
B21: 印刷費
B22: 通信・運搬費
B23: 消耗品費
B29: 対象経費の合計（D） | E29: =IF(SUM(E17:E28)=0,"0",SUM(E17:E28)) -> 0
A30: 対象とならない経費 | N30: =IF(AND(B30<>"",E30<>""),0,IF(B30="",0,1)) -> 0
N31: =IF(AND(B31<>"",E31<>""),0,IF(B31="",0,1)) -> 0
N32: =IF(AND(B32<>"",E32<>""),0,IF(B32="",0,1)) -> 0
N33: =IF(AND(B33<>"",E33<>""),0,IF(B33="",0,1)) -> 0
B34: 対象とならない経費の合計（E） | E34: =IF(SUM(E30:E33)=0,"0",SUM(E30:E33)) -> 0
A35: 合計額（F）＝（D+E） | E35: =IF(AND(E29="0",E34="0"),"0",E29+E34) -> 0 | I35: =IF($E$13=$E$35,"","収入と支出の合計額が一致しません") -> 収入と支出の合計額が一致しません

Sheet 写真貼付用紙
A1: 1
D4: 写 真 貼 付 欄
B16: 写真の説明
A17: 2
D24: 写 真 貼 付 欄
B32: 写真の説明
A33: 3
D40: 写 真 貼 付 欄
B51: 写真の説明
